Workbook

Sheet Dane wejściowe
A1: Tabela 1 Założenia
A2: 1. | B2: Rok bazowy (zerowy) analiz
A3: 2. | B3: Przyjęty okres odniesienia
A4: 3. | B4: Stopa dyskontowa w analizie finansowej | C4: 0.04
A5: 4. | B5: Stopa dyskontowa w analizie ekonomicznej | C5: 0.03
A6: Pozostałe założenia | C6: =IF(C2="","",C2) | D6: =IF(C6="","",IF(C6-$C6>=SUM($C$3)-1,"",C6+1)) | E6: =IF(D6="","",IF(D6-$C6>=SUM($C$3)-1,"",D6+1)) | F6: =IF(E6="","",IF(E6-$C6>=SUM($C$3)-1,"",E6+1)) | G6: =IF(F6="","",IF(F6-$C6>=SUM($C$3)-1,"",F6+1)) | H6: =IF(G6="","",IF(G6-$C6>=SUM($C$3)-1,"",G6+1)) | I6: =IF(H6="","",IF(H6-$C6>=SUM($C$3)-1,"",H6+1)) | J6: =IF(I6="","",IF(I6-$C6>=SUM($C$3)-1,"",I6+1)) | K6: =IF(J6="","",IF(J6-$C6>=SUM($C$3)-1,"",J6+1)) | ... AA6: =IF(Z6="","",IF(Z6-$C6>=SUM($C$3)-1,"",Z6+1))
A7: 5. | B7: Kolejny rok analiz | C7: 0 | D7: =C7+1 -> 1 | E7: =D7+1 -> 2 | F7: =E7+1 -> 3 | G7: =F7+1 -> 4 | H7: =G7+1 -> 5 | I7: =H7+1 -> 6 | J7: =I7+1 -> 7 | K7: =J7+1 -> 8 | ... AA7: =Z7+1 -> 24
A8: 6. | B8: Współczynnik dyskonta finansowego | C8: =IF(C$6="","",1/(1+$C$4)^C7) | D8: =IF(D$6="","",1/(1+$C$4)^D7) | E8: =IF(E$6="","",1/(1+$C$4)^E7) | F8: =IF(F$6="","",1/(1+$C$4)^F7) | G8: =IF(G$6="","",1/(1+$C$4)^G7) | H8: =IF(H$6="","",1/(1+$C$4)^H7) | I8: =IF(I$6="","",1/(1+$C$4)^I7) | J8: =IF(J$6="","",1/(1+$C$4)^J7) | ... AA8: =IF(AA$6="","",1/(1+$C$4)^AA7)
A9: 7. | B9: Współczynnik dyskonta społecznego | C9: =IF(C$6="","",1/(1+$C$5)^C7) | D9: =IF(D$6="","",1/(1+$C$5)^D7) | E9: =IF(E$6="","",1/(1+$C$5)^E7) | F9: =IF(F$6="","",1/(1+$C$5)^F7) | G9: =IF(G$6="","",1/(1+$C$5)^G7) | H9: =IF(H$6="","",1/(1+$C$5)^H7) | I9: =IF(I$6="","",1/(1+$C$5)^I7) | J9: =IF(J$6="","",1/(1+$C$5)^J7) | ... AA9: =IF(AA$6="","",1/(1+$C$5)^AA7)
A10: 8. | B10: Stopa wzrostu PKB
A11: 9. | B11: Stopa inflacji
A12: 10. | B12: Dynamika realnego wzrostu płac
A13: 11. | B13: Stopa podatku dochodowego
A14: 12. | B14: Inne ważne z punktu widzenia projektu
A16: Tabela 2 Nakłady inwestycyjne na projekt oraz koszty operacyjne nie stanowiące nakładów inwestycyjnych
A17: Lp. | B17: Wyszczególnienie | C17: =IF(C6="","",C6) | D17: =IF(D6="","",D6) | E17: =IF(E6="","",E6) | F17: SUMA
A18: A. | B18: Nakłady inwestycyjne dotyczące realizacji projektu | C18: =C19+C26 -> 0 | D18: =D19+D26 -> 0 | E18: =E19+E26 -> 0 | F18: =F19+F26 -> 0
A19: I. | B19: Nakłady inwestycyjne kwalifikowalne | C19: =SUM(C20:C25) -> 0 | D19: =SUM(D20:D25) -> 0 | E19: =SUM(E20:E25) -> 0 | F19: =SUM(F20:F25) -> 0
A20: 1. | F20: =SUM(C20:E20) -> 0
B21: VAT | F21: =SUM(C21:E21) -> 0
A22: 2. | F22: =SUM(C22:E22) -> 0
B23: VAT | F23: =SUM(C23:E23) -> 0
A24: 3. | F24: =SUM(C24:E24) -> 0
B25: VAT | F25: =SUM(C25:E25) -> 0
A26: II. | B26: Nakłady inwestycyjne niekwalifikowane | C26: =SUM(C27:C32) -> 0 | D26: =SUM(D27:D32) -> 0 | E26: =SUM(E27:E32) -> 0 | F26: =SUM(F27:F32) -> 0
A27: 1 | F27: =SUM(C27:E27) -> 0
B28: VAT | F28: =SUM(C28:E28) -> 0
A29: 2. | F29: =SUM(C29:E29) -> 0
B30: VAT | F30: =SUM(C30:E30) -> 0
A31: 3. | F31: =SUM(C31:E31) -> 0
B32: VAT | F32: =SUM(C32:E32) -> 0
A33: B. | B33: Koszty operacyjne projektu w fazie jego realizacji | C33: =C34+C39 -> 0 | D33: =D34+D39 -> 0 | E33: =E34+E39 -> 0 | F33: =F34+F39 -> 0
A34: III. | B34: Koszty operacyjne kwalifikowalne | C34: =SUM(C35:C38) -> 0 | D34: =SUM(D35:D38) -> 0 | E34: =SUM(E35:E38) -> 0 | F34: =SUM(F35:F38) -> 0
A35: 1. | F35: =SUM(C35:E35) -> 0
B36: VAT | F36: =SUM(C36:E36) -> 0
A37: 2. | F37: =SUM(C37:E37) -> 0
B38: VAT | F38: =SUM(C38:E38) -> 0
A39: IV. | B39: Koszty operacyjne niekwalifikowalne | C39: =SUM(C40:C43) -> 0 | D39: =SUM(D40:D43) -> 0 | E39: =SUM(E40:E43) -> 0 | F39: =SUM(F40:F43) -> 0
A40: 1. | F40: =SUM(C40:E40) -> 0
B41: VAT | F41: =SUM(C41:E41) -> 0
...

Sheet Obliczenia
A1: Tabela 6 Wskaźniki finansowej efektywności projektu
A2: Lp. | B2: Wyszczególnienie | C2: ='Dane wejściowe'!C6 | D2: =IF(C2="","",IF(C2-$C2>=SUM('Dane wejściowe'!$C$3)-1,"",C2+1)) | E2: =IF(D2="","",IF(D2-$C2>=SUM('Dane wejściowe'!$C$3)-1,"",D2+1)) | F2: =IF(E2="","",IF(E2-$C2>=SUM('Dane wejściowe'!$C$3)-1,"",E2+1)) | G2: =IF(F2="","",IF(F2-$C2>=SUM('Dane wejściowe'!$C$3)-1,"",F2+1)) | H2: =IF(G2="","",IF(G2-$C2>=SUM('Dane wejściowe'!$C$3)-1,"",G2+1)) | I2: =IF(H2="","",IF(H2-$C2>=SUM('Dane wejściowe'!$C$3)-1,"",H2+1)) | J2: =IF(I2="","",IF(I2-$C2>=SUM('Dane wejściowe'!$C$3)-1,"",I2+1)) | K2: =IF(J2="","",IF(J2-$C2>=SUM('Dane wejściowe'!$C$3)-1,"",J2+1)) | ... AA2: =IF(Z2="","",IF(Z2-$C2>=SUM('Dane wejściowe'!$C$3)-1,"",Z2+1))
A3: A. | B3: Wpływy | C3: =SUM(C4:C5) -> 0 | D3: =SUM(D4:D5) -> 0 | E3: =SUM(E4:E5) -> 0 | F3: =SUM(F4:F5) -> 0 | G3: =SUM(G4:G5) -> 0 | H3: =SUM(H4:H5) -> 0 | I3: =SUM(I4:I5) -> 0 | J3: =SUM(J4:J5) -> 0 | ... AA3: =SUM(AA4:AA5) -> 0
A4: 1. | B4: Przychody operacyjne
A5: 2. | B5: Wartość rezydualna
A6: B. | B6: Wydatki | C6: =SUM(C7:C10) -> 0 | D6: =SUM(D7:D10) -> 0 | E6: =SUM(E7:E10) -> 0 | F6: =SUM(F7:F10) -> 0 | G6: =SUM(G7:G10) -> 0 | H6: =SUM(H7:H10) -> 0 | I6: =SUM(I7:I10) -> 0 | J6: =SUM(J7:J10) -> 0 | ... AA6: =SUM(AA7:AA10) -> 0
A7: 1. | B7: Nakłady inwestycyjne
A8: 2. | B8: Nakłady odtworzeniowe
A9: 3. | B9: Zmiana kapitału obrotowego netto w fazie inwestycyjnej
A10: 4. | B10: Koszty operacyjne (bez amortyzacji)
A11: C. | B11: Przepływy pieniężne | C11: =C3-C6 -> 0 | D11: =D3-D6 -> 0 | E11: =E3-E6 -> 0 | F11: =F3-F6 -> 0 | G11: =G3-G6 -> 0 | H11: =H3-H6 -> 0 | I11: =I3-I6 -> 0 | J11: =J3-J6 -> 0 | ... AA11: =AA3-AA6 -> 0
A12: D. | B12: Zdyskontowane przepływy pieniężne | C12: =IFERROR(C11*'Dane wejściowe'!C8,0) -> 0 | D12: =IFERROR(D11*'Dane wejściowe'!D8,0) -> 0 | E12: =IFERROR(E11*'Dane wejściowe'!E8,0) -> 0 | F12: =IFERROR(F11*'Dane wejściowe'!F8,0) -> 0 | G12: =IFERROR(G11*'Dane wejściowe'!G8,0) -> 0 | H12: =IFERROR(H11*'Dane wejściowe'!H8,0) -> 0 | I12: =IFERROR(I11*'Dane wejściowe'!I8,0) -> 0 | J12: =IFERROR(J11*'Dane wejściowe'!J8,0) -> 0 | ... AA12: =IFERROR(AA11*'Dane wejściowe'!AA8,0) -> 0
B13: Finansowa bieżąca wartość netto inwestycji (FNPV/C) | C13: =IF(SUM(C12:AA12)="","",SUM(C12:AA12)) -> 0
B14: Finansowa wewnętrzna stopa zwrotu z inwestycji (FRR/C) | C14: =IFERROR(IRR(C11:AA11),"brak wyniku") -> brak wyniku

Sheet Trwałość finansowa
A1: Tabela 7 Trwałość finansowa - Projekt
A2: Lp. | B2: Wyszczególnienie | C2: ='Dane wejściowe'!C6 | D2: ='Dane wejściowe'!D6 | E2: ='Dane wejściowe'!E6 | F2: ='Dane wejściowe'!F6 | G2: ='Dane wejściowe'!G6 | H2: ='Dane wejściowe'!H6 | I2: ='Dane wejściowe'!I6 | J2: ='Dane wejściowe'!J6 | ... AA2: ='Dane wejściowe'!AA6
A3: A. | B3: Środki pieniężne - stan początkowy | C3: 0 | D3: =C21 -> 0 | E3: =D21 -> 0 | F3: =E21 -> 0 | G3: =F21 -> 0 | H3: =G21 -> 0 | I3: =H21 -> 0 | J3: =I21 -> 0 | K3: =J21 -> 0 | ... AA3: =Z21 -> 0
A4: B. | B4: Źródła pochodzenia środków | C4: =SUM(C5:C11) -> 0 | D4: =SUM(D5:D11) -> 0 | E4: =SUM(E5:E11) -> 0 | F4: =SUM(F5:F11) -> 0 | G4: =SUM(G5:G11) -> 0 | H4: =SUM(H5:H11) -> 0 | I4: =SUM(I5:I11) -> 0 | J4: =SUM(J5:J11) -> 0 | ... AA4: =SUM(AA5:AA11) -> 0
A5: 1. | B5: Środki własne inwestycyjne
A6: 2. | B6: Kredyty i pożyczki inwestycyjne
A7: 3. | B7: Dotacje
A8: 4. | B8: Przychody operacyjne
A9: 5. | B9: Środki własne bieżące
A10: 6. | B10: Kredyty i pożyczki obrotowe
A11: 7. | B11: Inne źródła
A12: C. | B12: Wykorzystanie środków | C12: =SUM(C13:C19) -> 0 | D12: =SUM(D13:D19) -> 0 | E12: =SUM(E13:E19) -> 0 | F12: =SUM(F13:F19) -> 0 | G12: =SUM(G13:G19) -> 0 | H12: =SUM(H13:H19) -> 0 | I12: =SUM(I13:I19) -> 0 | J12: =SUM(J13:J19) -> 0 | ... AA12: =SUM(AA13:AA19) -> 0
A13: 1. | B13: Nakłady inwestycyjne i odtworzeniowe
A14: 2. | B14: Koszty operacyjne (bez amortyzacji)
A15: 3. | B15: Spłaty kredytów i pożyczek
A16: 4. | B16: Odsetki od kredytów i pożyczek, prowizje
A17: 5. | B17: Podatki
A18: 6. | B18: Zmiana kapitału obrotowego netto
A19: 7. | B19: Inne wykorzystanie
A20: D. | B20: Zmiana stanu środków pieniężnych | C20: =C4-C12 -> 0 | D20: =D4-D12 -> 0 | E20: =E4-E12 -> 0 | F20: =F4-F12 -> 0 | G20: =G4-G12 -> 0 | H20: =H4-H12 -> 0 | I20: =I4-I12 -> 0 | J20: =J4-J12 -> 0 | ... AA20: =AA4-AA12 -> 0
A21: E. | B21: Środki pieniężne - stan końcowy | C21: =+C3+C20 -> 0 | D21: =+D3+D20 -> 0 | E21: =+E3+E20 -> 0 | F21: =+F3+F20 -> 0 | G21: =+G3+G20 -> 0 | H21: =+H3+H20 -> 0 | I21: =+I3+I20 -> 0 | J21: =+J3+J20 -> 0 | ... AA21: =+AA3+AA20 -> 0
B22: Trwałość finansowa projektu | C22: =IF(COUNTIF(C21:AA21,"<0")>0,"Nie","Tak") -> Tak
A24: Tabela 8 Trwałość finansowa - Wnioskodawca/operator + Projekt
A25: Lp. | B25: Wyszczególnienie | C25: ='Dane wejściowe'!C6 | D25: ='Dane wejściowe'!D6 | E25: ='Dane wejściowe'!E6 | F25: ='Dane wejściowe'!F6 | G25: ='Dane wejściowe'!G6 | H25: ='Dane wejściowe'!H6 | I25: ='Dane wejściowe'!I6 | J25: ='Dane wejściowe'!J6 | ... AA25: ='Dane wejściowe'!AA6
A26: A. | B26: Środki pieniężne - stan początkowy | C26: 0 | D26: =C44 -> 0 | E26: =D44 -> 0 | F26: =E44 -> 0 | G26: =F44 -> 0 | H26: =G44 -> 0 | I26: =H44 -> 0 | J26: =I44 -> 0 | K26: =J44 -> 0 | ... AA26: =Z44 -> 0
A27: B. | B27: Źródła pochodzenia środków | C27: =SUM(C28:C34) -> 0 | D27: =SUM(D28:D34) -> 0 | E27: =SUM(E28:E34) -> 0 | F27: =SUM(F28:F34) -> 0 | G27: =SUM(G28:G34) -> 0 | H27: =SUM(H28:H34) -> 0 | I27: =SUM(I28:I34) -> 0 | J27: =SUM(J28:J34) -> 0 | ... AA27: =SUM(AA28:AA34) -> 0
A28: 1. | B28: Środki własne inwestycyjne
A29: 2. | B29: Kredyty i pożyczki inwestycyjne
A30: 3. | B30: Dotacje
A31: 4. | B31: Przychody operacyjne
A32: 5. | B32: Środki własne bieżące
A33: 6. | B33: Kredyty i pożyczki obrotowe
A34: 7. | B34: Inne źródła
A35: C. | B35: Wykorzystanie środków | C35: =SUM(C36:C42) -> 0 | D35: =SUM(D36:D42) -> 0 | E35: =SUM(E36:E42) -> 0 | F35: =SUM(F36:F42) -> 0 | G35: =SUM(G36:G42) -> 0 | H35: =SUM(H36:H42) -> 0 | I35: =SUM(I36:I42) -> 0 | J35: =SUM(J36:J42) -> 0 | ... AA35: =SUM(AA36:AA42) -> 0
A36: 1. | B36: Nakłady inwestycyjne i odtworzeniowe
A37: 2. | B37: Koszty operacyjne (bez amortyzacji)
A38: 3. | B38: Spłaty kredytów i pożyczek
A39: 4. | B39: Odsetki od kredytów i pożyczek, prowizje
A40: 5. | B40: Podatki
A41: 6. | B41: Zmiana kapitału obrotowego netto
...

Sheet Obliczenia - Niebieska Księga
A1: Analiza dla projektu inwestycyjnego obejmująca sektor transportu opracowana na podstawie Niebieskiej Ksiegi – Sektor transportu publicznego w miastach, aglomeracjach i regionach (Jaspers, 2023)
A3: Analiza popytu
A7: Analiza społeczno-ekonomiczna
A11: Analiza wrażliwości

Sheet Rekompensata

Sheet Arkusz Pomocniczy
