Workbook

Sheet Dane wejściowe
A1: Tabela 1 Założenia
A2: 1. | B2: Rok bazowy (zerowy) analiz
A3: 2. | B3: Przyjęty okres odniesienia
A4: 3. | B4: Stopa dyskontowa w analizie finansowej | C4: 0.04
A5: 4. | B5: Stopa dyskontowa w analizie ekonomicznej | C5: 0.03
A6: Pozostałe założenia | C6: =IF(C2="","",C2) | D6: =IF(C6="","",IF(C6-$C6>=SUM($C$3)-1,"",C6+1)) | E6: =IF(D6="","",IF(D6-$C6>=SUM($C$3)-1,"",D6+1)) | F6: =IF(E6="","",IF(E6-$C6>=SUM($C$3)-1,"",E6+1)) | G6: =IF(F6="","",IF(F6-$C6>=SUM($C$3)-1,"",F6+1)) | H6: =IF(G6="","",IF(G6-$C6>=SUM($C$3)-1,"",G6+1)) | I6: =IF(H6="","",IF(H6-$C6>=SUM($C$3)-1,"",H6+1)) | J6: =IF(I6="","",IF(I6-$C6>=SUM($C$3)-1,"",I6+1)) | K6: =IF(J6="","",IF(J6-$C6>=SUM($C$3)-1,"",J6+1)) | ... BA6: =IF(AZ6="","",IF(AZ6-$C6>=SUM($C$3)-1,"",AZ6+1))
A7: 5. | B7: Kolejny rok analiz | C7: 0 | D7: =C7+1 -> 1 | E7: =D7+1 -> 2 | F7: =E7+1 -> 3 | G7: =F7+1 -> 4 | H7: =G7+1 -> 5 | I7: =H7+1 -> 6 | J7: =I7+1 -> 7 | K7: =J7+1 -> 8 | ... BA7: =AZ7+1 -> 50
A8: 6. | B8: Współczynnik dyskonta finansowego | C8: =IF(C$6="","",1/(1+$C$4)^C7) | D8: =IF(D$6="","",1/(1+$C$4)^D7) | E8: =IF(E$6="","",1/(1+$C$4)^E7) | F8: =IF(F$6="","",1/(1+$C$4)^F7) | G8: =IF(G$6="","",1/(1+$C$4)^G7) | H8: =IF(H$6="","",1/(1+$C$4)^H7) | I8: =IF(I$6="","",1/(1+$C$4)^I7) | J8: =IF(J$6="","",1/(1+$C$4)^J7) | ... BA8: =IF(BA$6="","",1/(1+$C$4)^BA7)
A9: 7. | B9: Współczynnik dyskonta społecznego | C9: =IF(C$6="","",1/(1+$C$5)^C7) | D9: =IF(D$6="","",1/(1+$C$5)^D7) | E9: =IF(E$6="","",1/(1+$C$5)^E7) | F9: =IF(F$6="","",1/(1+$C$5)^F7) | G9: =IF(G$6="","",1/(1+$C$5)^G7) | H9: =IF(H$6="","",1/(1+$C$5)^H7) | I9: =IF(I$6="","",1/(1+$C$5)^I7) | J9: =IF(J$6="","",1/(1+$C$5)^J7) | ... BA9: =IF(BA$6="","",1/(1+$C$5)^BA7)
A10: 8. | B10: Stopa wzrostu PKB
A11: 9. | B11: Stopa inflacji
A12: 10. | B12: Dynamika realnego wzrostu płac
A13: 11. | B13: Stopa podatku dochodowego
A14: 12. | B14: Inne ważne z punktu widzenia projektu
A16: Tabela 2 Nakłady inwestycyjne na projekt oraz koszty operacyjne niestanowiące nakładów inwestycyjnych
A17: Lp. | B17: Wyszczególnienie | C17: =IF(C6="","",C6) | D17: =IF(D6="","",D6) | E17: =IF(E6="","",E6) | F17: SUMA
A18: A. | B18: Nakłady inwestycyjne dotyczące realizacji projektu | C18: =C19+C26 -> 0 | D18: =D19+D26 -> 0 | E18: =E19+E26 -> 0 | F18: =F19+F26 -> 0
A19: I. | B19: Nakłady inwestycyjne kwalifikowalne | C19: =SUM(C20:C25) -> 0 | D19: =SUM(D20:D25) -> 0 | E19: =SUM(E20:E25) -> 0 | F19: =SUM(F20:F25) -> 0
A20: 1. | F20: =SUM(C20:E20) -> 0
B21: VAT | F21: =SUM(C21:E21) -> 0
A22: 2. | F22: =SUM(C22:E22) -> 0
B23: VAT | F23: =SUM(C23:E23) -> 0
A24: 3. | F24: =SUM(C24:E24) -> 0
B25: VAT | F25: =SUM(C25:E25) -> 0
A26: II. | B26: Nakłady inwestycyjne niekwalifikowalne | C26: =SUM(C27:C32) -> 0 | D26: =SUM(D27:D32) -> 0 | E26: =SUM(E27:E32) -> 0 | F26: =SUM(F27:F32) -> 0
A27: 1 | F27: =SUM(C27:E27) -> 0
B28: VAT | F28: =SUM(C28:E28) -> 0
A29: 2. | F29: =SUM(C29:E29) -> 0
B30: VAT | F30: =SUM(C30:E30) -> 0
A31: 3. | F31: =SUM(C31:E31) -> 0
B32: VAT | F32: =SUM(C32:E32) -> 0
A33: B. | B33: Koszty operacyjne projektu w fazie jego realizacji | C33: =C34+C39 -> 0 | D33: =D34+D39 -> 0 | E33: =E34+E39 -> 0 | F33: =F34+F39 -> 0
A34: III. | B34: Koszty operacyjne kwalifikowalne | C34: =SUM(C35:C38) -> 0 | D34: =SUM(D35:D38) -> 0 | E34: =SUM(E35:E38) -> 0 | F34: =SUM(F35:F38) -> 0
A35: 1. | F35: =SUM(C35:E35) -> 0
B36: VAT | F36: =SUM(C36:E36) -> 0
A37: 2. | F37: =SUM(C37:E37) -> 0
B38: VAT | F38: =SUM(C38:E38) -> 0
A39: IV. | B39: Koszty operacyjne niekwalifikowalne | C39: =SUM(C40:C43) -> 0 | D39: =SUM(D40:D43) -> 0 | E39: =SUM(E40:E43) -> 0 | F39: =SUM(F40:F43) -> 0
A40: 1. | F40: =SUM(C40:E40) -> 0
B41: VAT | F41: =SUM(C41:E41) -> 0
A42: 2. | F42: =SUM(C42:E42) -> 0
B43: VAT | F43: =SUM(C43:E43) -> 0
A44: V. | B44: Razem koszty kwalifikowalne | C44: =C19+C34 -> 0 | D44: =D19+D34 -> 0 | E44: =E19+E34 -> 0 | F44: =F19+F34 -> 0
A45: VI. | B45: Razem koszty niekwalifikowalne | C45: =C26+C39 -> 0 | D45: =D26+D39 -> 0 | E45: =E26+E39 -> 0 | F45: =F26+F39 -> 0
A46: C. | B46: Całkowite koszty ponoszone w związku z realizacją projektu | C46: =C44+C45 -> 0 | D46: =D44+D45 -> 0 | E46: =E44+E45 -> 0 | F46: =F44+F45 -> 0
A48: Tabela 3 Amortyzacja i nakłady odtworzeniowe
A49: Lp. | B49: Wyszczególnienie | C49: =IF(C6="","",C6) | D49: =IF(D6="","",D6) | E49: =IF(E6="","",E6) | F49: =IF(F6="","",F6) | G49: =IF(G6="","",G6) | H49: =IF(H6="","",H6) | I49: =IF(I6="","",I6) | J49: =IF(J6="","",J6) | ... BA49: =IF(BA6="","",BA6)
A50: A. | B50: Środek trwały 1
A51: 1. | B51: Wartość środka trwałego na początku okresu
A52: 2. | B52: Stawka amortyzacyjna
A53: 3. | B53: Amortyzacja
A54: 4. | B54: Wartość po umorzeniu
A55: B. | B55: Środek trwały 2
A56: 1. | B56: Wartość środka trwałego na początku okresu
A57: 2. | B57: Stawka amortyzacyjna
A58: 3. | B58: Amortyzacja
A59: 4. | B59: Wartość po umorzeniu
A60: C. | B60: Środek trwały n
A61: 1. | B61: Wartość środka trwałego na początku okresu
... A69: 4. | B69: Wartość po umorzeniu
A70: E. | B70: Razem amortyzacja | C70: =C58+C63+C53+C68 -> 0 | D70: =D58+D63+D53+D68 -> 0 | E70: =E58+E63+E53+E68 -> 0 | F70: =F58+F63+F53+F68 -> 0 | G70: =G58+G63+G53+G68 -> 0 | H70: =H58+H63+H53+H68 -> 0 | I70: =I58+I63+I53+I68 -> 0 | J70: =J58+J63+J53+J68 -> 0 | ... BA70: =BA58+BA63+BA53+BA68 -> 0
A72: Tabela 4 Przychody i koszty operacyjne
A73: Lp. | B73: Wyszczególnienie | C73: =IF(C6="","",C6) | D73: =IF(D6="","",D6) | E73: =IF(E6="","",E6) | F73: =IF(F6="","",F6) | G73: =IF(G6="","",G6) | H73: =IF(H6="","",H6) | I73: =IF(I6="","",I6) | J73: =IF(J6="","",J6) | ... BA73: =IF(BA6="","",BA6)
A74: A. | B74: Przychody operacyjne
A75: B. | B75: Koszty operacyjne ogółem, w tym: | C75: =SUM(C76:C83) -> 0 | D75: =SUM(D76:D83) -> 0 | E75: =SUM(E76:E83) -> 0 | F75: =SUM(F76:F83) -> 0 | G75: =SUM(G76:G83) -> 0 | H75: =SUM(H76:H83) -> 0 | I75: =SUM(I76:I83) -> 0 | J75: =SUM(J76:J83) -> 0 | ... BA75: =SUM(BA76:BA83) -> 0
A76: 1. | B76: Amortyzacja
A77: 2. | B77: Zużycie materiałów i energii
A78: 3. | B78: Usługi obce
A79: 4. | B79: Podatki i opłaty
A80: 5. | B80: Wynagrodzenia
A81: 6. | B81: Ubezpieczenia społeczne i inne świadczenia
A82: 7. | B82: Pozostałe koszty rodzajowe
A83: 8. | B83: Wartość sprzedanych towarów i materiałów
A85: Tabela 5 Kapitał obrotowy netto
A86: Lp. | B86: Wyszczególnienie | C86: =IF(C2="","",C2)
A87: 1. | B87: Cykl rotacji zapasów materiałowych
A88: 2. | B88: Cykl rotacji należności krótkoterminowych
A89: 3. | B89: Cykl rotacji zobowiązań krótkoterminowych

Sheet Obliczenia
A1: Tabela 6 Wskaźniki finansowej efektywności projektu
A2: Lp. | B2: Wyszczególnienie | C2: ='Dane wejściowe'!C6 | D2: =IF(C2="","",IF(C2-$C2>=SUM('Dane wejściowe'!$C$3)-1,"",C2+1)) | E2: =IF(D2="","",IF(D2-$C2>=SUM('Dane wejściowe'!$C$3)-1,"",D2+1)) | F2: =IF(E2="","",IF(E2-$C2>=SUM('Dane wejściowe'!$C$3)-1,"",E2+1)) | G2: =IF(F2="","",IF(F2-$C2>=SUM('Dane wejściowe'!$C$3)-1,"",F2+1)) | H2: =IF(G2="","",IF(G2-$C2>=SUM('Dane wejściowe'!$C$3)-1,"",G2+1)) | I2: =IF(H2="","",IF(H2-$C2>=SUM('Dane wejściowe'!$C$3)-1,"",H2+1)) | J2: =IF(I2="","",IF(I2-$C2>=SUM('Dane wejściowe'!$C$3)-1,"",I2+1)) | K2: =IF(J2="","",IF(J2-$C2>=SUM('Dane wejściowe'!$C$3)-1,"",J2+1)) | ... BA2: =IF(AZ2="","",IF(AZ2-$C2>=SUM('Dane wejściowe'!$C$3)-1,"",AZ2+1))
A3: A. | B3: Wpływy | C3: =SUM(C4:C5) -> 0 | D3: =SUM(D4:D5) -> 0 | E3: =SUM(E4:E5) -> 0 | F3: =SUM(F4:F5) -> 0 | G3: =SUM(G4:G5) -> 0 | H3: =SUM(H4:H5) -> 0 | I3: =SUM(I4:I5) -> 0 | J3: =SUM(J4:J5) -> 0 | ... BA3: =SUM(BA4:BA5) -> 0
A4: 1. | B4: Przychody operacyjne
A5: 2. | B5: Wartość rezydualna
A6: B. | B6: Wydatki | C6: =SUM(C7:C10) -> 0 | D6: =SUM(D7:D10) -> 0 | E6: =SUM(E7:E10) -> 0 | F6: =SUM(F7:F10) -> 0 | G6: =SUM(G7:G10) -> 0 | H6: =SUM(H7:H10) -> 0 | I6: =SUM(I7:I10) -> 0 | J6: =SUM(J7:J10) -> 0 | ... BA6: =SUM(BA7:BA10) -> 0
A7: 1. | B7: Nakłady inwestycyjne
A8: 2. | B8: Nakłady odtworzeniowe
A9: 3. | B9: Zmiana kapitału obrotowego netto w fazie inwestycyjnej
A10: 4. | B10: Koszty operacyjne (bez amortyzacji)
A11: C. | B11: Przepływy pieniężne | C11: =C3-C6 -> 0 | D11: =D3-D6 -> 0 | E11: =E3-E6 -> 0 | F11: =F3-F6 -> 0 | G11: =G3-G6 -> 0 | H11: =H3-H6 -> 0 | I11: =I3-I6 -> 0 | J11: =J3-J6 -> 0 | ... BA11: =BA3-BA6 -> 0
A12: D. | B12: Zdyskontowane przepływy pieniężne | C12: =IFERROR(C11*'Dane wejściowe'!C8,0) -> 0 | D12: =IFERROR(D11*'Dane wejściowe'!D8,0) -> 0 | E12: =IFERROR(E11*'Dane wejściowe'!E8,0) -> 0 | F12: =IFERROR(F11*'Dane wejściowe'!F8,0) -> 0 | G12: =IFERROR(G11*'Dane wejściowe'!G8,0) -> 0 | H12: =IFERROR(H11*'Dane wejściowe'!H8,0) -> 0 | I12: =IFERROR(I11*'Dane wejściowe'!I8,0) -> 0 | J12: =IFERROR(J11*'Dane wejściowe'!J8,0) -> 0 | ... BA12: =IFERROR(BA11*'Dane wejściowe'!BA8,0) -> 0
B13: Finansowa bieżąca wartość netto inwestycji (FNPV/C) | C13: =IF(SUM(C12:BA12)="","",SUM(C12:BA12)) -> 0
B14: Finansowa wewnętrzna stopa zwrotu z inwestycji (FRR/C) | C14: =IFERROR(IRR(C11:BA11),"brak wyniku") -> brak wyniku
A17: Tabela 7 Wskaźniki ekonomicznej efektywności projektu
A18: Lp. | B18: Wyszczególnienie | C18: ='Dane wejściowe'!C6 | D18: =IF(C18="","",IF(C18-$C18>=SUM('Dane wejściowe'!$C$3)-1,"",C18+1)) | E18: =IF(D18="","",IF(D18-$C18>=SUM('Dane wejściowe'!$C$3)-1,"",D18+1)) | F18: =IF(E18="","",IF(E18-$C18>=SUM('Dane wejściowe'!$C$3)-1,"",E18+1)) | G18: =IF(F18="","",IF(F18-$C18>=SUM('Dane wejściowe'!$C$3)-1,"",F18+1)) | H18: =IF(G18="","",IF(G18-$C18>=SUM('Dane wejściowe'!$C$3)-1,"",G18+1)) | I18: =IF(H18="","",IF(H18-$C18>=SUM('Dane wejściowe'!$C$3)-1,"",H18+1)) | J18: =IF(I18="","",IF(I18-$C18>=SUM('Dane wejściowe'!$C$3)-1,"",I18+1)) | K18: =IF(J18="","",IF(J18-$C18>=SUM('Dane wejściowe'!$C$3)-1,"",J18+1)) | ... BA18: =IF(AZ18="","",IF(AZ18-$C18>=SUM('Dane wejściowe'!$C$3)-1,"",AZ18+1))
A19: A. | B19: Wpływy | C19: =SUM(C20:C21) -> 0 | D19: =SUM(D20:D21) -> 0 | E19: =SUM(E20:E21) -> 0 | F19: =SUM(F20:F21) -> 0 | G19: =SUM(G20:G21) -> 0 | H19: =SUM(H20:H21) -> 0 | I19: =SUM(I20:I21) -> 0 | J19: =SUM(J20:J21) -> 0 | ... BA19: =SUM(BA20:BA21) -> 0
A20: I. | B20: Przychody operacyjne
A21: II. | B21: Wartość rezydualna
A22: III. | B22: Korekty wpływów | C22: =SUM(C23:C24) -> 0 | D22: =SUM(D23:D24) -> 0 | E22: =SUM(E23:E24) -> 0 | F22: =SUM(F23:F24) -> 0 | G22: =SUM(G23:G24) -> 0 | H22: =SUM(H23:H24) -> 0 | I22: =SUM(I23:I24) -> 0 | J22: =SUM(J23:J24) -> 0 | ... BA22: =SUM(BA23:BA24) -> 0
A23: 1. | B23: korekta …
A24: 2. | B24: korekta …
A25: Wpływy po korektach | C25: =C19+C22 -> 0 | D25: =D19+D22 -> 0 | E25: =E19+E22 -> 0 | F25: =F19+F22 -> 0 | G25: =G19+G22 -> 0 | H25: =H19+H22 -> 0 | I25: =I19+I22 -> 0 | J25: =J19+J22 -> 0 | ... BA25: =BA19+BA22 -> 0
A26: B. | B26: Wydatki | C26: =SUM(C27:C29) -> 0 | D26: =SUM(D27:D29) -> 0 | E26: =SUM(E27:E29) -> 0 | F26: =SUM(F27:F29) -> 0 | G26: =SUM(G27:G29) -> 0 | H26: =SUM(H27:H29) -> 0 | I26: =SUM(I27:I29) -> 0 | J26: =SUM(J27:J29) -> 0 | ... BA26: =SUM(BA27:BA29) -> 0
A27: I. | B27: Nakłady inwestycyjne i odtworzeniowe
A28: II. | B28: Zmiana kapitału obrotowego netto w fazie inwestycyjnej
A29: III. | B29: Koszty operacyjne (bez amortyzacji)
A30: IV. | B30: Korekty wydatków | C30: =SUM(C31:C32) -> 0 | D30: =SUM(D31:D32) -> 0 | E30: =SUM(E31:E32) -> 0 | F30: =SUM(F31:F32) -> 0 | G30: =SUM(G31:G32) -> 0 | H30: =SUM(H31:H32) -> 0 | I30: =SUM(I31:I32) -> 0 | J30: =SUM(J31:J32) -> 0 | ... BA30: =SUM(BA31:BA32) -> 0
A31: 1. | B31: podatek VAT
A32: 2. | B32: podatek …
A33: Wydatki po korektach | C33: =C26+C30 -> 0 | D33: =D26+D30 -> 0 | E33: =E26+E30 -> 0 | F33: =F26+F30 -> 0 | G33: =G26+G30 -> 0 | H33: =H26+H30 -> 0 | I33: =I26+I30 -> 0 | J33: =J26+J30 -> 0 | ... BA33: =BA26+BA30 -> 0
A34: C. | B34: Przepływy pieniężne po korektach | C34: =C25-C33 -> 0 | D34: =D25-D33 -> 0 | E34: =E25-E33 -> 0 | F34: =F25-F33 -> 0 | G34: =G25-G33 -> 0 | H34: =H25-H33 -> 0 | I34: =I25-I33 -> 0 | J34: =J25-J33 -> 0 | ... BA34: =BA25-BA33 -> 0
A35: I. | B35: Pozytywne efekty zewnętrzne (korzyści) | C35: =SUM(C36:C37) -> 0 | D35: =SUM(D36:D37) -> 0 | E35: =SUM(E36:E37) -> 0 | F35: =SUM(F36:F37) -> 0 | G35: =SUM(G36:G37) -> 0 | H35: =SUM(H36:H37) -> 0 | I35: =SUM(I36:I37) -> 0 | J35: =SUM(J36:J37) -> 0 | ... BA35: =SUM(BA36:BA37) -> 0
A36: 1. | B36: korzyść …
A37: 2. | B37: korzyść …
A38: II. | B38: Negatywne efekty zewnętrzne (koszty) | C38: =SUM(C39:C40) -> 0 | D38: =SUM(D39:D40) -> 0 | E38: =SUM(E39:E40) -> 0 | F38: =SUM(F39:F40) -> 0 | G38: =SUM(G39:G40) -> 0 | H38: =SUM(H39:H40) -> 0 | I38: =SUM(I39:I40) -> 0 | J38: =SUM(J39:J40) -> 0 | ... BA38: =SUM(BA39:BA40) -> 0
A39: 1. | B39: koszt …
A40: 2. | B40: koszt …
A41: D. | B41: Ekonomiczne przepływy pieniężne | C41: =C34+C35-C38 -> 0 | D41: =D34+D35-D38 -> 0 | E41: =E34+E35-E38 -> 0 | F41: =F34+F35-F38 -> 0 | G41: =G34+G35-G38 -> 0 | H41: =H34+H35-H38 -> 0 | I41: =I34+I35-I38 -> 0 | J41: =J34+J35-J38 -> 0 | ... BA41: =BA34+BA35-BA38 -> 0
A42: E. | B42: Zdyskontowane ekonomiczne przepływy | C42: =IFERROR(C41*'Dane wejściowe'!C9,0) -> 0 | D42: =IFERROR(D41*'Dane wejściowe'!D9,0) -> 0 | E42: =IFERROR(E41*'Dane wejściowe'!E9,0) -> 0 | F42: =IFERROR(F41*'Dane wejściowe'!F9,0) -> 0 | G42: =IFERROR(G41*'Dane wejściowe'!G9,0) -> 0 | H42: =IFERROR(H41*'Dane wejściowe'!H9,0) -> 0 | I42: =IFERROR(I41*'Dane wejściowe'!I9,0) -> 0 | J42: =IFERROR(J41*'Dane wejściowe'!J9,0) -> 0 | ... BA42: =IFERROR(BA41*'Dane wejściowe'!BA9,0) -> 0
A43: F. | B43: Zdyskontowane korzyści | C43: =IFERROR((C25+C35)*'Dane wejściowe'!C9,0) -> 0 | D43: =IFERROR((D25+D35)*'Dane wejściowe'!D9,0) -> 0 | E43: =IFERROR((E25+E35)*'Dane wejściowe'!E9,0) -> 0 | F43: =IFERROR((F25+F35)*'Dane wejściowe'!F9,0) -> 0 | G43: =IFERROR((G25+G35)*'Dane wejściowe'!G9,0) -> 0 | H43: =IFERROR((H25+H35)*'Dane wejściowe'!H9,0) -> 0 | I43: =IFERROR((I25+I35)*'Dane wejściowe'!I9,0) -> 0 | J43: =IFERROR((J25+J35)*'Dane wejściowe'!J9,0) -> 0 | ... BA43: =IFERROR((BA25+BA35)*'Dane wejściowe'!BA9,0) -> 0
A44: G. | B44: Zdyskontowane koszty | C44: =IFERROR((C33+C38)*'Dane wejściowe'!C9,0) -> 0 | D44: =IFERROR((D33+D38)*'Dane wejściowe'!D9,0) -> 0 | E44: =IFERROR((E33+E38)*'Dane wejściowe'!E9,0) -> 0 | F44: =IFERROR((F33+F38)*'Dane wejściowe'!F9,0) -> 0 | G44: =IFERROR((G33+G38)*'Dane wejściowe'!G9,0) -> 0 | H44: =IFERROR((H33+H38)*'Dane wejściowe'!H9,0) -> 0 | I44: =IFERROR((I33+I38)*'Dane wejściowe'!I9,0) -> 0 | J44: =IFERROR((J33+J38)*'Dane wejściowe'!J9,0) -> 0 | ... BA44: =IFERROR((BA33+BA38)*'Dane wejściowe'!BA9,0) -> 0
B45: Ekonomiczna zaktualizowana wartość netto (ENPV) | C45: =IFERROR(SUM(C42:BA42),0) -> 0
B46: Ekonomiczna wewnętrzna stopa zwrotu (ERR) | C46: =IFERROR(IRR(C41:BA41),"brak wyniku") -> brak wyniku
B47: Ekonomiczny wskaźnik korzyści/koszty (B/C) | C47: =IFERROR(SUM(C43:BA43)/SUM(C44:BA44),"brak wyniku") -> brak wyniku

Sheet Trwałość finansowa
A1: Tabela 7 Trwałość finansowa - Projekt
A2: Lp. | B2: Wyszczególnienie | C2: ='Dane wejściowe'!C6 | D2: ='Dane wejściowe'!D6 | E2: ='Dane wejściowe'!E6 | F2: ='Dane wejściowe'!F6 | G2: ='Dane wejściowe'!G6 | H2: ='Dane wejściowe'!H6 | I2: ='Dane wejściowe'!I6 | J2: ='Dane wejściowe'!J6 | ... BA2: ='Dane wejściowe'!BA6
A3: A. | B3: Środki pieniężne - stan początkowy | C3: 0 | D3: =C21 -> 0 | E3: =D21 -> 0 | F3: =E21 -> 0 | G3: =F21 -> 0 | H3: =G21 -> 0 | I3: =H21 -> 0 | J3: =I21 -> 0 | K3: =J21 -> 0 | ... BA3: =AZ21 -> 0
A4: B. | B4: Źródła pochodzenia środków | C4: =SUM(C5:C11) -> 0 | D4: =SUM(D5:D11) -> 0 | E4: =SUM(E5:E11) -> 0 | F4: =SUM(F5:F11) -> 0 | G4: =SUM(G5:G11) -> 0 | H4: =SUM(H5:H11) -> 0 | I4: =SUM(I5:I11) -> 0 | J4: =SUM(J5:J11) -> 0 | ... BA4: =SUM(BA5:BA11) -> 0
A5: 1. | B5: Środki własne inwestycyjne
A6: 2. | B6: Kredyty i pożyczki inwestycyjne
A7: 3. | B7: Dotacje
A8: 4. | B8: Przychody operacyjne
A9: 5. | B9: Środki własne bieżące
A10: 6. | B10: Kredyty i pożyczki obrotowe
A11: 7. | B11: Inne źródła
A12: C. | B12: Wykorzystanie środków | C12: =SUM(C13:C19) -> 0 | D12: =SUM(D13:D19) -> 0 | E12: =SUM(E13:E19) -> 0 | F12: =SUM(F13:F19) -> 0 | G12: =SUM(G13:G19) -> 0 | H12: =SUM(H13:H19) -> 0 | I12: =SUM(I13:I19) -> 0 | J12: =SUM(J13:J19) -> 0 | ... BA12: =SUM(BA13:BA19) -> 0
A13: 1. | B13: Nakłady inwestycyjne i odtworzeniowe
A14: 2. | B14: Koszty operacyjne (bez amortyzacji)
A15: 3. | B15: Spłaty kredytów i pożyczek
A16: 4. | B16: Odsetki od kredytów i pożyczek, prowizje
A17: 5. | B17: Podatki
A18: 6. | B18: Zmiana kapitału obrotowego netto
A19: 7. | B19: Inne wykorzystanie
A20: D. | B20: Zmiana stanu środków pieniężnych | C20: =C4-C12 -> 0 | D20: =D4-D12 -> 0 | E20: =E4-E12 -> 0 | F20: =F4-F12 -> 0 | G20: =G4-G12 -> 0 | H20: =H4-H12 -> 0 | I20: =I4-I12 -> 0 | J20: =J4-J12 -> 0 | ... BA20: =BA4-BA12 -> 0
A21: E. | B21: Środki pieniężne - stan końcowy | C21: =+C3+C20 -> 0 | D21: =+D3+D20 -> 0 | E21: =+E3+E20 -> 0 | F21: =+F3+F20 -> 0 | G21: =+G3+G20 -> 0 | H21: =+H3+H20 -> 0 | I21: =+I3+I20 -> 0 | J21: =+J3+J20 -> 0 | ... BA21: =+BA3+BA20 -> 0
B22: Trwałość finansowa projektu | C22: =IF(COUNTIF(C21:BA21,"<0")>0,"Nie","Tak") -> Tak
A24: Tabela 8 Trwałość finansowa - Wnioskodawca/operator + Projekt
A25: Lp. | B25: Wyszczególnienie | C25: ='Dane wejściowe'!C6 | D25: ='Dane wejściowe'!D6 | E25: ='Dane wejściowe'!E6 | F25: ='Dane wejściowe'!F6 | G25: ='Dane wejściowe'!G6 | H25: ='Dane wejściowe'!H6 | I25: ='Dane wejściowe'!I6 | J25: ='Dane wejściowe'!J6 | ... BA25: ='Dane wejściowe'!BA6
A26: A. | B26: Środki pieniężne - stan początkowy | C26: 0 | D26: =C44 -> 0 | E26: =D44 -> 0 | F26: =E44 -> 0 | G26: =F44 -> 0 | H26: =G44 -> 0 | I26: =H44 -> 0 | J26: =I44 -> 0 | K26: =J44 -> 0 | ... BA26: =AZ44 -> 0
A27: B. | B27: Źródła pochodzenia środków | C27: =SUM(C28:C34) -> 0 | D27: =SUM(D28:D34) -> 0 | E27: =SUM(E28:E34) -> 0 | F27: =SUM(F28:F34) -> 0 | G27: =SUM(G28:G34) -> 0 | H27: =SUM(H28:H34) -> 0 | I27: =SUM(I28:I34) -> 0 | J27: =SUM(J28:J34) -> 0 | ... BA27: =SUM(BA28:BA34) -> 0
A28: 1. | B28: Środki własne inwestycyjne
A29: 2. | B29: Kredyty i pożyczki inwestycyjne
A30: 3. | B30: Dotacje
A31: 4. | B31: Przychody operacyjne
A32: 5. | B32: Środki własne bieżące
A33: 6. | B33: Kredyty i pożyczki obrotowe
A34: 7. | B34: Inne źródła
A35: C. | B35: Wykorzystanie środków | C35: =SUM(C36:C42) -> 0 | D35: =SUM(D36:D42) -> 0 | E35: =SUM(E36:E42) -> 0 | F35: =SUM(F36:F42) -> 0 | G35: =SUM(G36:G42) -> 0 | H35: =SUM(H36:H42) -> 0 | I35: =SUM(I36:I42) -> 0 | J35: =SUM(J36:J42) -> 0 | ... BA35: =SUM(BA36:BA42) -> 0
A36: 1. | B36: Nakłady inwestycyjne i odtworzeniowe
A37: 2. | B37: Koszty operacyjne (bez amortyzacji)
A38: 3. | B38: Spłaty kredytów i pożyczek
A39: 4. | B39: Odsetki od kredytów i pożyczek, prowizje
A40: 5. | B40: Podatki
A41: 6. | B41: Zmiana kapitału obrotowego netto
A42: 7. | B42: Inne wykorzystanie
A43: D. | B43: Zmiana stanu środków pieniężnych | C43: =C27-C35 -> 0 | D43: =D27-D35 -> 0 | E43: =E27-E35 -> 0 | F43: =F27-F35 -> 0 | G43: =G27-G35 -> 0 | H43: =H27-H35 -> 0 | I43: =I27-I35 -> 0 | J43: =J27-J35 -> 0 | ... BA43: =BA27-BA35 -> 0
A44: E. | B44: Środki pieniężne - stan końcowy | C44: =+C26+C43 -> 0 | D44: =+D26+D43 -> 0 | E44: =+E26+E43 -> 0 | F44: =+F26+F43 -> 0 | G44: =+G26+G43 -> 0 | H44: =+H26+H43 -> 0 | I44: =+I26+I43 -> 0 | J44: =+J26+J43 -> 0 | ... BA44: =+BA26+BA43 -> 0
B45: Trwałość finansowa Wnioskodawca/operator + Projekt | C45: =IF(COUNTIF(C44:BA44,"<0")+COUNTIF(C44:BA44,"=0")>0,"Nie","Tak") -> Nie
A47: Tabela 9 Trwałość finansowa - Partner + Projekt
A48: Lp. | B48: Wyszczególnienie | C48: ='Dane wejściowe'!C6 | D48: ='Dane wejściowe'!D6 | E48: ='Dane wejściowe'!E6 | F48: ='Dane wejściowe'!F6 | G48: ='Dane wejściowe'!G6 | H48: ='Dane wejściowe'!H6 | I48: ='Dane wejściowe'!I6 | J48: ='Dane wejściowe'!J6 | ... BA48: ='Dane wejściowe'!BA6
A49: A. | B49: Środki pieniężne - stan początkowy | C49: 0 | D49: =C67 -> 0 | E49: =D67 -> 0 | F49: =E67 -> 0 | G49: =F67 -> 0 | H49: =G67 -> 0 | I49: =H67 -> 0 | J49: =I67 -> 0 | K49: =J67 -> 0 | ... BA49: =AZ67 -> 0
A50: B. | B50: Źródła pochodzenia środków | C50: =SUM(C51:C57) -> 0 | D50: =SUM(D51:D57) -> 0 | E50: =SUM(E51:E57) -> 0 | F50: =SUM(F51:F57) -> 0 | G50: =SUM(G51:G57) -> 0 | H50: =SUM(H51:H57) -> 0 | I50: =SUM(I51:I57) -> 0 | J50: =SUM(J51:J57) -> 0 | ... BA50: =SUM(BA51:BA57) -> 0
A51: 1. | B51: Środki własne inwestycyjne
A52: 2. | B52: Kredyty i pożyczki inwestycyjne
A53: 3. | B53: Dotacje
A54: 4. | B54: Przychody operacyjne
A55: 5. | B55: Środki własne bieżące
A56: 6. | B56: Kredyty i pożyczki obrotowe
A57: 7. | B57: Inne źródła
A58: C. | B58: Wykorzystanie środków | C58: =SUM(C59:C65) -> 0 | D58: =SUM(D59:D65) -> 0 | E58: =SUM(E59:E65) -> 0 | F58: =SUM(F59:F65) -> 0 | G58: =SUM(G59:G65) -> 0 | H58: =SUM(H59:H65) -> 0 | I58: =SUM(I59:I65) -> 0 | J58: =SUM(J59:J65) -> 0 | ... BA58: =SUM(BA59:BA65) -> 0
A59: 1. | B59: Nakłady inwestycyjne i odtworzeniowe
A60: 2. | B60: Koszty operacyjne (bez amortyzacji)
A61: 3. | B61: Spłaty kredytów i pożyczek
A62: 4. | B62: Odsetki od kredytów i pożyczek, prowizje
A63: 5. | B63: Podatki
A64: 6. | B64: Zmiana kapitału obrotowego netto
A65: 7. | B65: Inne wykorzystanie
A66: D. | B66: Zmiana stanu środków pieniężnych | C66: =C50-C58 -> 0 | D66: =D50-D58 -> 0 | E66: =E50-E58 -> 0 | F66: =F50-F58 -> 0 | G66: =G50-G58 -> 0 | H66: =H50-H58 -> 0 | I66: =I50-I58 -> 0 | J66: =J50-J58 -> 0 | ... BA66: =BA50-BA58 -> 0
A67: E. | B67: Środki pieniężne - stan końcowy | C67: =+C49+C66 -> 0 | D67: =+D49+D66 -> 0 | E67: =+E49+E66 -> 0 | F67: =+F49+F66 -> 0 | G67: =+G49+G66 -> 0 | H67: =+H49+H66 -> 0 | I67: =+I49+I66 -> 0 | J67: =+J49+J66 -> 0 | ... BA67: =+BA49+BA66 -> 0
B68: Trwałość finansowa Partner + Projekt | C68: =IF(COUNTIF(C67:BA67,"<0")+COUNTIF(C67:BA67,"=0")>0,"Nie","Tak") -> Nie

Sheet Zysk operacyjny - art. 53 GBER
A1: Tabela Założenia do obliczenia Zysku Operacyjnego
A2: 1. | B2: Rok bazowy (zerowy) analizy
A3: 2. | B3: Przyjęty okres odniesienia
A4: 3. | B4: Poziom dofinansowania
A5: 4. | B5: Stopa dyskontowa
A6: 5. | B6: Kolejny rok analiz | C6: 0 | D6: =C6+1 -> 1 | E6: =D6+1 -> 2 | F6: =E6+1 -> 3 | G6: =F6+1 -> 4 | H6: =G6+1 -> 5 | I6: =H6+1 -> 6 | J6: =I6+1 -> 7 | K6: =J6+1 -> 8 | ... BA6: =AZ6+1 -> 50
A7: 6. | B7: Rok analizy | C7: =IF(C2="","",C2) | D7: =IF(C33="","",IF(C33-$C33>=SUM($C$3)-1,"",C33+1)) | E7: =IF(D33="","",IF(D33-$C33>=SUM($C$3)-1,"",D33+1)) | F7: =IF(E33="","",IF(E33-$C33>=SUM($C$3)-1,"",E33+1)) | G7: =IF(F33="","",IF(F33-$C33>=SUM($C$3)-1,"",F33+1)) | H7: =IF(G33="","",IF(G33-$C33>=SUM($C$3)-1,"",G33+1)) | I7: =IF(H33="","",IF(H33-$C33>=SUM($C$3)-1,"",H33+1)) | J7: =IF(I33="","",IF(I33-$C33>=SUM($C$3)-1,"",I33+1)) | K7: =IF(J33="","",IF(J33-$C33>=SUM($C$3)-1,"",J33+1)) | ... BA7: =IF(AZ33="","",IF(AZ33-$C33>=SUM($C$3)-1,"",AZ33+1))
A8: 7. | B8: Współczynnik dyskontowy | C8: =IF(C$33="","",1/(1+$C$5)^C6) | D8: =IF(D$33="","",1/(1+$C$5)^D6) | E8: =IF(E$33="","",1/(1+$C$5)^E6) | F8: =IF(F$33="","",1/(1+$C$5)^F6) | G8: =IF(G$33="","",1/(1+$C$5)^G6) | H8: =IF(H$33="","",1/(1+$C$5)^H6) | I8: =IF(I$33="","",1/(1+$C$5)^I6) | J8: =IF(J$33="","",1/(1+$C$5)^J6) | ... BA8: =IF(BA$33="","",1/(1+$C$5)^BA6)
A10: Tabela Koszty kwalifikowalne wg GBER (art. 53 GBER)
A11: Lp. | B11: Koszt kwalifikowalny | C11: =IF(C7="","",C7) | D11: =IF(D7="","",D7) | E11: =IF(E7="","",E7) | F11: SUMA
A12: 1. | F12: =SUM(C12:E12) -> 0
A13: 2. | F13: =SUM(C13:E13) -> 0
A14: 3. | F14: =SUM(C14:E14) -> 0
A15: 4. | F15: =SUM(C15:E15) -> 0
A16: 5. | F16: =SUM(C16:E16) -> 0
A17: 6. | F17: =SUM(C17:E17) -> 0
C18: =SUM(C12:C17) -> 0 | D18: =SUM(D12:D17) -> 0 | E18: =SUM(E12:E17) -> 0 | F18: =SUM(F12:F17) -> 0
A20: Tabela Przychody i koszty operacyjne wyodrębnione dla zadania z pomocą na art. 53 GBER
A21: Lp. | B21: Wyszczególnienie | C21: =IF(C7="","",C7) | D21: =IF(D7="","",D7) | E21: =IF(E7="","",E7) | F21: =IF(F7="","",F7) | G21: =IF(G7="","",G7) | H21: =IF(H7="","",H7) | I21: =IF(I7="","",I7) | J21: =IF(J7="","",J7) | ... BA21: =IF(BA7="","",BA7)
A22: A. | B22: Przychody operacyjne
A23: B. | B23: Koszty operacyjne, w tym: | C23: =SUM(C24:C30) -> 0 | D23: =SUM(D24:D30) -> 0 | E23: =SUM(E24:E30) -> 0 | F23: =SUM(F24:F30) -> 0 | G23: =SUM(G24:G30) -> 0 | H23: =SUM(H24:H30) -> 0 | I23: =SUM(I24:I30) -> 0 | J23: =SUM(J24:J30) -> 0 | ... BA23: =SUM(BA24:BA30) -> 0
A24: 1. | B24: Zużycie materiałów i energii
A25: 2. | B25: Usługi obce
A26: 3. | B26: Podatki i opłaty
A27: 4. | B27: Wynagrodzenia
A28: 5. | B28: Ubezpieczenia społeczne i inne świadczenia
A29: 6. | B29: Pozostałe koszty rodzajowe
A30: 7. | B30: Wartość sprzedanych towarów i materiałów
A32: Tabela Obliczenie Zysku Operacyjnego (art. 53 GBER)
A33: Lp. | B33: Wyszczególnienie | C33: =IF(C7="","",C7) | D33: =IF(D7="","",D7) | E33: =IF(E7="","",E7) | F33: =IF(F7="","",F7) | G33: =IF(G7="","",G7) | H33: =IF(H7="","",H7) | I33: =IF(I7="","",I7) | J33: =IF(J7="","",J7) | ... BA33: =IF(BA7="","",BA7)
A34: 1. | B34: Koszty kwalifikowalne wg GBER
A35: 2. | B35: Przychody operacyjne | C35: =C22 -> 0 | D35: =D22 -> 0 | E35: =E22 -> 0 | F35: =F22 -> 0 | G35: =G22 -> 0 | H35: =H22 -> 0 | I35: =I22 -> 0 | J35: =J22 -> 0 | ... BA35: =BA22 -> 0
A36: 3. | B36: Zdyskonotwane przychody operacyjne | C36: =IFERROR(C35*C8,0) -> 0 | D36: =IFERROR(D35*D8,0) -> 0 | E36: =IFERROR(E35*E8,0) -> 0 | F36: =IFERROR(F35*F8,0) -> 0 | G36: =IFERROR(G35*G8,0) -> 0 | H36: =IFERROR(H35*H8,0) -> 0 | I36: =IFERROR(I35*I8,0) -> 0 | J36: =IFERROR(J35*J8,0) -> 0 | ... BA36: =IFERROR(BA35*BA8,0) -> 0
A37: 4. | B37: Koszty operacyjne bez amortyzacji | C37: =C23 -> 0 | D37: =D23 -> 0 | E37: =E23 -> 0 | F37: =F23 -> 0 | G37: =G23 -> 0 | H37: =H23 -> 0 | I37: =I23 -> 0 | J37: =J23 -> 0 | ... BA37: =BA23 -> 0
A38: 5. | B38: Zdyskontowane koszty operacyjne bez amortyzacji | C38: =IFERROR(C37*C8,0) -> 0 | D38: =IFERROR(D37*D8,0) -> 0 | E38: =IFERROR(E37*E8,0) -> 0 | F38: =IFERROR(F37*F8,0) -> 0 | G38: =IFERROR(G37*G8,0) -> 0 | H38: =IFERROR(H37*H8,0) -> 0 | I38: =IFERROR(I37*I8,0) -> 0 | J38: =IFERROR(J37*J8,0) -> 0 | ... BA38: =IFERROR(BA37*BA8,0) -> 0
A39: 6. | B39: Suma zdyskontowanych przychodów
A40: 7. | B40: Suma zdyskontowanych kosztów
A41: 8. | B41: Zysk Operacyjny
A43: Tabela Obliczenie dofinansowania (art. 53 GBER)
A44: A. | B44: Pomoc publiczna
A45: 1. | B45: Koszty kwalifikowalne wg GBER
A46: 2. | B46: Koszty kwalifikowalne wg GBER zdyskontowane
A47: 3. | B47: Maksymalna wielkość pomocy inwestycyjnej (zdyskontowana)
A48: 4. | B48: Stosunek maksymalnej wielkości pomocy (zdyskontowanej) do zdyskontowanych kosztów kwalifikowalnych wg GBER
A49: 5. | B49: Maksymalna wartość pomocy inwestycyjnej (niezdyskontowana)
A50: 6. | B50: Koszty kwalifikowalne wg FEW
A51: 7. | B51: Koszty niekwalifikowalne wg FEW (uwzględnione jako kwalifikowalne wg GBER)
A52: 8. | B52: Podstawa do wyliczenia wartości dofinansowania | C52: =C49-C51 -> 0
A53: 9. | B53: Poziom dofinansowania
A54: 10. | B54: Wartość dofinansowania pomoc publiczna

Sheet Wrażliwość i ryzyko
